BEGIN:VCALENDAR
VERSION:2.0
PRODID:-//Oxford Phab - ECPv6.15.20//NONSGML v1.0//EN
CALSCALE:GREGORIAN
METHOD:PUBLISH
X-WR-CALNAME:Oxford Phab
X-ORIGINAL-URL:https://oxford-phab.wp.paladyn.org
X-WR-CALDESC:Events for Oxford Phab
REFRESH-INTERVAL;VALUE=DURATION:PT1H
X-Robots-Tag:noindex
X-PUBLISHED-TTL:PT1H
BEGIN:VTIMEZONE
TZID:Europe/London
BEGIN:DAYLIGHT
TZOFFSETFROM:+0000
TZOFFSETTO:+0100
TZNAME:BST
DTSTART:20210328T010000
END:DAYLIGHT
BEGIN:STANDARD
TZOFFSETFROM:+0100
TZOFFSETTO:+0000
TZNAME:GMT
DTSTART:20211031T010000
END:STANDARD
BEGIN:DAYLIGHT
TZOFFSETFROM:+0000
TZOFFSETTO:+0100
TZNAME:BST
DTSTART:20220327T010000
END:DAYLIGHT
BEGIN:STANDARD
TZOFFSETFROM:+0100
TZOFFSETTO:+0000
TZNAME:GMT
DTSTART:20221030T010000
END:STANDARD
BEGIN:DAYLIGHT
TZOFFSETFROM:+0000
TZOFFSETTO:+0100
TZNAME:BST
DTSTART:20230326T010000
END:DAYLIGHT
BEGIN:STANDARD
TZOFFSETFROM:+0100
TZOFFSETTO:+0000
TZNAME:GMT
DTSTART:20231029T010000
END:STANDARD
END:VTIMEZONE
BEGIN:VEVENT
DTSTART;TZID=Europe/London:20221209T193000
DTEND;TZID=Europe/London:20221209T213000
DTSTAMP:20260420T140333
CREATED:20220923T164746Z
LAST-MODIFIED:20220923T164746Z
UID:3868-1670614200-1670621400@oxford-phab.wp.paladyn.org
SUMMARY:Club Night with Christmas Bingo
DESCRIPTION:Please bring a prize
URL:https://oxford-phab.wp.paladyn.org/event/club-night-with-christmas-bingo-4/
END:VEVENT
END:VCALENDAR