BEGIN:VCALENDAR
VERSION:2.0
PRODID:-//Oxford Phab - ECPv6.15.20//NONSGML v1.0//EN
CALSCALE:GREGORIAN
METHOD:PUBLISH
X-ORIGINAL-URL:https://oxford-phab.wp.paladyn.org
X-WR-CALDESC:Events for Oxford Phab
REFRESH-INTERVAL;VALUE=DURATION:PT1H
X-Robots-Tag:noindex
X-PUBLISHED-TTL:PT1H
BEGIN:VTIMEZONE
TZID:Europe/London
BEGIN:DAYLIGHT
TZOFFSETFROM:+0000
TZOFFSETTO:+0100
TZNAME:BST
DTSTART:20210328T010000
END:DAYLIGHT
BEGIN:STANDARD
TZOFFSETFROM:+0100
TZOFFSETTO:+0000
TZNAME:GMT
DTSTART:20211031T010000
END:STANDARD
BEGIN:DAYLIGHT
TZOFFSETFROM:+0000
TZOFFSETTO:+0100
TZNAME:BST
DTSTART:20220327T010000
END:DAYLIGHT
BEGIN:STANDARD
TZOFFSETFROM:+0100
TZOFFSETTO:+0000
TZNAME:GMT
DTSTART:20221030T010000
END:STANDARD
BEGIN:DAYLIGHT
TZOFFSETFROM:+0000
TZOFFSETTO:+0100
TZNAME:BST
DTSTART:20230326T010000
END:DAYLIGHT
BEGIN:STANDARD
TZOFFSETFROM:+0100
TZOFFSETTO:+0000
TZNAME:GMT
DTSTART:20231029T010000
END:STANDARD
END:VTIMEZONE
BEGIN:VEVENT
DTSTART;TZID=Europe/London:20221212T193000
DTEND;TZID=Europe/London:20221212T220000
DTSTAMP:20260420T140420
CREATED:20220923T165530Z
LAST-MODIFIED:20220923T165530Z
UID:3870-1670873400-1670882400@oxford-phab.wp.paladyn.org
SUMMARY:Theatre Trip to see Mama Mia
DESCRIPTION:Please pay £15 a.s.a.p to book your place.
URL:https://oxford-phab.wp.paladyn.org/event/theatre-trip-to-see-mama-mia/
LOCATION:New Theatre\, George Stret\, Oxford\, OX1 2AG\, United Kingdom
END:VEVENT
END:VCALENDAR