BEGIN:VCALENDAR
VERSION:2.0
PRODID:-//Oxford Phab - ECPv6.15.20//NONSGML v1.0//EN
CALSCALE:GREGORIAN
METHOD:PUBLISH
X-WR-CALNAME:Oxford Phab
X-ORIGINAL-URL:https://oxford-phab.wp.paladyn.org
X-WR-CALDESC:Events for Oxford Phab
REFRESH-INTERVAL;VALUE=DURATION:PT1H
X-Robots-Tag:noindex
X-PUBLISHED-TTL:PT1H
BEGIN:VTIMEZONE
TZID:Europe/London
BEGIN:DAYLIGHT
TZOFFSETFROM:+0000
TZOFFSETTO:+0100
TZNAME:BST
DTSTART:20220327T010000
END:DAYLIGHT
BEGIN:STANDARD
TZOFFSETFROM:+0100
TZOFFSETTO:+0000
TZNAME:GMT
DTSTART:20221030T010000
END:STANDARD
BEGIN:DAYLIGHT
TZOFFSETFROM:+0000
TZOFFSETTO:+0100
TZNAME:BST
DTSTART:20230326T010000
END:DAYLIGHT
BEGIN:STANDARD
TZOFFSETFROM:+0100
TZOFFSETTO:+0000
TZNAME:GMT
DTSTART:20231029T010000
END:STANDARD
BEGIN:DAYLIGHT
TZOFFSETFROM:+0000
TZOFFSETTO:+0100
TZNAME:BST
DTSTART:20240331T010000
END:DAYLIGHT
BEGIN:STANDARD
TZOFFSETFROM:+0100
TZOFFSETTO:+0000
TZNAME:GMT
DTSTART:20241027T010000
END:STANDARD
END:VTIMEZONE
BEGIN:VEVENT
DTSTART;TZID=Europe/London:20230602T190000
DTEND;TZID=Europe/London:20230602T213000
DTSTAMP:20260420T232236
CREATED:20230226T164613Z
LAST-MODIFIED:20230226T164613Z
UID:4053-1685732400-1685741400@oxford-phab.wp.paladyn.org
SUMMARY:Joseph and the Amazing Technicolor Dreamcoat
DESCRIPTION:The Wesley Memorial Junior Church (with some assistance) are performing Joseph and the Amazing Technicolor Dreamcoat.  \nThere are some tickets available (for free !) to Phab members\, but note that the capacity of the church is limited so make sure you are on the list. There will be a retiring collection with profits going to the projects the church is supporting. \nPhab members are involved in the production\, both on and off the stage.
URL:https://oxford-phab.wp.paladyn.org/event/club-night-34/
LOCATION:Wesley Memorial Church\, New Inn Hall Street\, Oxford\, Oxfordshire\, OX1 2DH\, United Kingdom
CATEGORIES:Musicals
ATTACH;FMTTYPE=:
END:VEVENT
END:VCALENDAR