BEGIN:VCALENDAR
VERSION:2.0
PRODID:-//Oxford Phab - ECPv6.15.20//NONSGML v1.0//EN
CALSCALE:GREGORIAN
METHOD:PUBLISH
X-WR-CALNAME:Oxford Phab
X-ORIGINAL-URL:https://oxford-phab.wp.paladyn.org
X-WR-CALDESC:Events for Oxford Phab
REFRESH-INTERVAL;VALUE=DURATION:PT1H
X-Robots-Tag:noindex
X-PUBLISHED-TTL:PT1H
BEGIN:VTIMEZONE
TZID:Europe/London
BEGIN:DAYLIGHT
TZOFFSETFROM:+0000
TZOFFSETTO:+0100
TZNAME:BST
DTSTART:20220327T010000
END:DAYLIGHT
BEGIN:STANDARD
TZOFFSETFROM:+0100
TZOFFSETTO:+0000
TZNAME:GMT
DTSTART:20221030T010000
END:STANDARD
BEGIN:DAYLIGHT
TZOFFSETFROM:+0000
TZOFFSETTO:+0100
TZNAME:BST
DTSTART:20230326T010000
END:DAYLIGHT
BEGIN:STANDARD
TZOFFSETFROM:+0100
TZOFFSETTO:+0000
TZNAME:GMT
DTSTART:20231029T010000
END:STANDARD
BEGIN:DAYLIGHT
TZOFFSETFROM:+0000
TZOFFSETTO:+0100
TZNAME:BST
DTSTART:20240331T010000
END:DAYLIGHT
BEGIN:STANDARD
TZOFFSETFROM:+0100
TZOFFSETTO:+0000
TZNAME:GMT
DTSTART:20241027T010000
END:STANDARD
END:VTIMEZONE
BEGIN:VEVENT
DTSTART;TZID=Europe/London:20230630T190000
DTEND;TZID=Europe/London:20230630T213000
DTSTAMP:20260421T010316
CREATED:20230226T164755Z
LAST-MODIFIED:20230226T164755Z
UID:4057-1688151600-1688160600@oxford-phab.wp.paladyn.org
SUMMARY:Meeting at Hinksey Heights Golf Club
DESCRIPTION:We will meet at Hinksey Heights Golf Club to chat and have drinks and food if wanted. \nIf you would like food\, please order from the menu\, which Mary sent out on Friday 23rd and let her know your choices by Tuesday 27th
URL:https://oxford-phab.wp.paladyn.org/event/club-night-36/
LOCATION:Hinksey Heights Golf Club\, South Hinksey\, Oxford\, OX1 5AB\, United Kingdom
END:VEVENT
END:VCALENDAR