BEGIN:VCALENDAR
VERSION:2.0
PRODID:-//Oxford Phab - ECPv6.15.20//NONSGML v1.0//EN
CALSCALE:GREGORIAN
METHOD:PUBLISH
X-ORIGINAL-URL:https://oxford-phab.wp.paladyn.org
X-WR-CALDESC:Events for Oxford Phab
REFRESH-INTERVAL;VALUE=DURATION:PT1H
X-Robots-Tag:noindex
X-PUBLISHED-TTL:PT1H
BEGIN:VTIMEZONE
TZID:Europe/London
BEGIN:DAYLIGHT
TZOFFSETFROM:+0000
TZOFFSETTO:+0100
TZNAME:BST
DTSTART:20220327T010000
END:DAYLIGHT
BEGIN:STANDARD
TZOFFSETFROM:+0100
TZOFFSETTO:+0000
TZNAME:GMT
DTSTART:20221030T010000
END:STANDARD
BEGIN:DAYLIGHT
TZOFFSETFROM:+0000
TZOFFSETTO:+0100
TZNAME:BST
DTSTART:20230326T010000
END:DAYLIGHT
BEGIN:STANDARD
TZOFFSETFROM:+0100
TZOFFSETTO:+0000
TZNAME:GMT
DTSTART:20231029T010000
END:STANDARD
BEGIN:DAYLIGHT
TZOFFSETFROM:+0000
TZOFFSETTO:+0100
TZNAME:BST
DTSTART:20240331T010000
END:DAYLIGHT
BEGIN:STANDARD
TZOFFSETFROM:+0100
TZOFFSETTO:+0000
TZNAME:GMT
DTSTART:20241027T010000
END:STANDARD
END:VTIMEZONE
BEGIN:VEVENT
DTSTART;TZID=Europe/London:20231027T170000
DTEND;TZID=Europe/London:20231027T230000
DTSTAMP:20260421T073926
CREATED:20230929T095005Z
LAST-MODIFIED:20230929T095005Z
UID:4199-1698426000-1698447600@oxford-phab.wp.paladyn.org
SUMMARY:Halloween Party at Banbury Phab
DESCRIPTION:We are looking forward to a return to Banbury Phab’s amazing Halloween Party. \nPlease book your place by 13th October so we can let them know numbers\, and plan transport.
URL:https://oxford-phab.wp.paladyn.org/event/halloween-party-at-banbury-phab/
LOCATION:Redlands Centre\, Banbury\, Redlands Centre\, Neithrop Avenue\,\, Banbury\, Oxfordshire\, OX16 2NT
END:VEVENT
END:VCALENDAR