BEGIN:VCALENDAR
VERSION:2.0
PRODID:-//Oxford Phab - ECPv6.15.20//NONSGML v1.0//EN
CALSCALE:GREGORIAN
METHOD:PUBLISH
X-ORIGINAL-URL:https://oxford-phab.wp.paladyn.org
X-WR-CALDESC:Events for Oxford Phab
REFRESH-INTERVAL;VALUE=DURATION:PT1H
X-Robots-Tag:noindex
X-PUBLISHED-TTL:PT1H
BEGIN:VTIMEZONE
TZID:Europe/London
BEGIN:DAYLIGHT
TZOFFSETFROM:+0000
TZOFFSETTO:+0100
TZNAME:BST
DTSTART:20160327T010000
END:DAYLIGHT
BEGIN:STANDARD
TZOFFSETFROM:+0100
TZOFFSETTO:+0000
TZNAME:GMT
DTSTART:20161030T010000
END:STANDARD
BEGIN:DAYLIGHT
TZOFFSETFROM:+0000
TZOFFSETTO:+0100
TZNAME:BST
DTSTART:20170326T010000
END:DAYLIGHT
BEGIN:STANDARD
TZOFFSETFROM:+0100
TZOFFSETTO:+0000
TZNAME:GMT
DTSTART:20171029T010000
END:STANDARD
BEGIN:DAYLIGHT
TZOFFSETFROM:+0000
TZOFFSETTO:+0100
TZNAME:BST
DTSTART:20180325T010000
END:DAYLIGHT
BEGIN:STANDARD
TZOFFSETFROM:+0100
TZOFFSETTO:+0000
TZNAME:GMT
DTSTART:20181028T010000
END:STANDARD
END:VTIMEZONE
BEGIN:VEVENT
DTSTART;TZID=Europe/London:20170702T100000
DTEND;TZID=Europe/London:20170702T170000
DTSTAMP:20260424T204138
CREATED:20170227T162421Z
LAST-MODIFIED:20170227T162421Z
UID:1780-1498989600-1499014800@oxford-phab.wp.paladyn.org
SUMMARY:Cowley Road Carnival
DESCRIPTION:Unfortunately we do not have enough members available for a stall here to raise our profile\, and maybe fundraise a little\, as we did in 2015 and 2016. Hopefully some members will be able to go on their own account and enjoy the experience.
URL:https://oxford-phab.wp.paladyn.org/event/cowley-road-carnival-3/
LOCATION:Cowley Road\, Oxford\, United Kingdom
CATEGORIES:Fundraising
END:VEVENT
END:VCALENDAR