BEGIN:VCALENDAR
VERSION:2.0
PRODID:-//Oxford Phab - ECPv6.15.20//NONSGML v1.0//EN
CALSCALE:GREGORIAN
METHOD:PUBLISH
X-ORIGINAL-URL:https://oxford-phab.wp.paladyn.org
X-WR-CALDESC:Events for Oxford Phab
REFRESH-INTERVAL;VALUE=DURATION:PT1H
X-Robots-Tag:noindex
X-PUBLISHED-TTL:PT1H
BEGIN:VTIMEZONE
TZID:Europe/London
BEGIN:DAYLIGHT
TZOFFSETFROM:+0000
TZOFFSETTO:+0100
TZNAME:BST
DTSTART:20210328T010000
END:DAYLIGHT
BEGIN:STANDARD
TZOFFSETFROM:+0100
TZOFFSETTO:+0000
TZNAME:GMT
DTSTART:20211031T010000
END:STANDARD
BEGIN:DAYLIGHT
TZOFFSETFROM:+0000
TZOFFSETTO:+0100
TZNAME:BST
DTSTART:20220327T010000
END:DAYLIGHT
BEGIN:STANDARD
TZOFFSETFROM:+0100
TZOFFSETTO:+0000
TZNAME:GMT
DTSTART:20221030T010000
END:STANDARD
BEGIN:DAYLIGHT
TZOFFSETFROM:+0000
TZOFFSETTO:+0100
TZNAME:BST
DTSTART:20230326T010000
END:DAYLIGHT
BEGIN:STANDARD
TZOFFSETFROM:+0100
TZOFFSETTO:+0000
TZNAME:GMT
DTSTART:20231029T010000
END:STANDARD
END:VTIMEZONE
BEGIN:VEVENT
DTSTART;TZID=Europe/London:20221104T193000
DTEND;TZID=Europe/London:20221104T213000
DTSTAMP:20260420T112145
CREATED:20220923T163700Z
LAST-MODIFIED:20220923T163700Z
UID:3860-1667590200-1667597400@oxford-phab.wp.paladyn.org
SUMMARY:Club Night with Pizza making
DESCRIPTION:with Maria and Darren.
URL:https://oxford-phab.wp.paladyn.org/event/club-night-with-pizza-making/
LOCATION:Wesley Memorial Church\, New Inn Hall Street\, Oxford\, Oxfordshire\, OX1 2DH\, United Kingdom
END:VEVENT
BEGIN:VEVENT
DTSTART;TZID=Europe/London:20221111T193000
DTEND;TZID=Europe/London:20221111T213000
DTSTAMP:20260420T112145
CREATED:20220925T063617Z
LAST-MODIFIED:20220925T063617Z
UID:3884-1668195000-1668202200@oxford-phab.wp.paladyn.org
SUMMARY:Club Night with AGM
DESCRIPTION:Annual General Meeting at 8 p.m. Nominations for Committee to Mary L. by Friday 4th November. A Zoom link will be available to members for the AGM.
URL:https://oxford-phab.wp.paladyn.org/event/club-night-with-agm/
LOCATION:Wesley Memorial Church\, New Inn Hall Street\, Oxford\, Oxfordshire\, OX1 2DH\, United Kingdom
END:VEVENT
BEGIN:VEVENT
DTSTART;TZID=Europe/London:20221118T193000
DTEND;TZID=Europe/London:20221118T203000
DTSTAMP:20260420T112145
CREATED:20220923T164205Z
LAST-MODIFIED:20220923T164205Z
UID:3864-1668799800-1668803400@oxford-phab.wp.paladyn.org
SUMMARY:Club Night with Games
DESCRIPTION:Boccia and Indoor Hockey
URL:https://oxford-phab.wp.paladyn.org/event/club-night-with-games/
LOCATION:Wesley Memorial Church\, New Inn Hall Street\, Oxford\, Oxfordshire\, OX1 2DH\, United Kingdom
END:VEVENT
BEGIN:VEVENT
DTSTART;TZID=Europe/London:20221125T000000
DTEND;TZID=Europe/London:20221127T235959
DTSTAMP:20260420T112145
CREATED:20220203T183056Z
LAST-MODIFIED:20220203T183056Z
UID:3636-1669334400-1669593599@oxford-phab.wp.paladyn.org
SUMMARY:Phab South East Fun Weekend
DESCRIPTION:This is fully booked\, the programme will be similar to previous years\, with craft and other activities\, meals and an opportunity to socialise with members of other Phab clubs.
URL:https://oxford-phab.wp.paladyn.org/event/phab-south-east-fun-weekend-2/
LOCATION:Chichester
END:VEVENT
END:VCALENDAR